<?xml version="1.0" encoding="UTF-8" standalone="no"?>
<metadata xml:lang="en">
<Esri>
<CreaDate>20120321</CreaDate>
<CreaTime>12160600</CreaTime>
<ArcGISFormat>1.0</ArcGISFormat>
<SyncOnce>FALSE</SyncOnce>
<DataProperties>
<lineage>
<Process Date="20120321" Time="121606" ToolSource="D:\PROGRAMAS\ArcGIS\Desktop10.0\ArcToolbox\Toolboxes\Data Management Tools.tbx\CreateRasterDataset">CreateRasterDataset "D:\arcgisserver\DATA\Cache imagen\1998\OrtoMosaico1998.gdb" FotoMosaico # 8_BIT_UNSIGNED PROJCS['PCS_CarMAGBOG',GEOGCS['GCS_CarMAGBOG',DATUM['D_CGS_CarMAGBOG',SPHEROID['GRS80_Mod',6380687.0,298.257222101]],PRIMEM['Greenwich',0.0],UNIT['Degree',0.0174532925199433]],PROJECTION['Transverse_Mercator'],PARAMETER['False_Easting',92334.879],PARAMETER['False_Northing',109320.965],PARAMETER['Central_Meridian',-74.14659167],PARAMETER['Scale_Factor',1.0],PARAMETER['Latitude_Of_Origin',4.680486111],UNIT['Meter',1.0]] 1 # "PYRAMIDS -1 NEAREST DEFAULT 75" "128 128" LZ77 "-5532925.69286016 9597524.68616474"</Process>
<Process Date="20120321" Time="124236" ToolSource="D:\PROGRAMAS\ArcGIS\Desktop10.0\ArcToolbox\Toolboxes\Data Management Tools.tbx\Mosaic">Mosaic 'D:\arcgisserver\DATA\Cache imagen\1998\50_o.jpg';'D:\arcgisserver\DATA\Cache imagen\1998\PL11_O.JPG';'D:\arcgisserver\DATA\Cache imagen\1998\PL12_O.JPG';'D:\arcgisserver\DATA\Cache imagen\1998\PL_07.JPG';'D:\arcgisserver\DATA\Cache imagen\1998\PL_09.JPG';'D:\arcgisserver\DATA\Cache imagen\1998\PL_10.JPG';'D:\arcgisserver\DATA\Cache imagen\1998\pl_11.jpg';'D:\arcgisserver\DATA\Cache imagen\1998\pl_12.jpg';'D:\arcgisserver\DATA\Cache imagen\1998\PL_14.JPG';'D:\arcgisserver\DATA\Cache imagen\1998\PL_15.JPG';'D:\arcgisserver\DATA\Cache imagen\1998\PL_16.JPG';'D:\arcgisserver\DATA\Cache imagen\1998\PL_17.JPG';'D:\arcgisserver\DATA\Cache imagen\1998\pl_18.jpg';'D:\arcgisserver\DATA\Cache imagen\1998\PL_20.JPG';'D:\arcgisserver\DATA\Cache imagen\1998\PL_21.JPG';'D:\arcgisserver\DATA\Cache imagen\1998\PL_22.JPG';'D:\arcgisserver\DATA\Cache imagen\1998\PL_23.JPG';'D:\arcgisserver\DATA\Cache imagen\1998\PL_24.JPG';'D:\arcgisserver\DATA\Cache imagen\1998\pl_25.jpg';'D:\arcgisserver\DATA\Cache imagen\1998\PL_26.JPG';'D:\arcgisserver\DATA\Cache imagen\1998\PL_27.JPG';'D:\arcgisserver\DATA\Cache imagen\1998\PL_28.JPG';'D:\arcgisserver\DATA\Cache imagen\1998\PL_29.JPG';'D:\arcgisserver\DATA\Cache imagen\1998\PL_30.JPG';'D:\arcgisserver\DATA\Cache imagen\1998\PL_31.JPG';'D:\arcgisserver\DATA\Cache imagen\1998\PL_34.JPG';'D:\arcgisserver\DATA\Cache imagen\1998\PL_35.JPG';'D:\arcgisserver\DATA\Cache imagen\1998\PL_36.JPG';'D:\arcgisserver\DATA\Cache imagen\1998\PL_37.JPG';'D:\arcgisserver\DATA\Cache imagen\1998\PL_38.JPG';'D:\arcgisserver\DATA\Cache imagen\1998\pl_39.jpg';'D:\arcgisserver\DATA\Cache imagen\1998\pl_40.jpg';'D:\arcgisserver\DATA\Cache imagen\1998\PL_44.JPG';'D:\arcgisserver\DATA\Cache imagen\1998\PL_45.JPG';'D:\arcgisserver\DATA\Cache imagen\1998\PL_46.JPG';'D:\arcgisserver\DATA\Cache imagen\1998\PL_47.JPG';'D:\arcgisserver\DATA\Cache imagen\1998\PL_48.JPG';'D:\arcgisserver\DATA\Cache imagen\1998\PL_49.JPG';'D:\arcgisserver\DATA\Cache imagen\1998\pl_50.jpg';'D:\arcgisserver\DATA\Cache imagen\1998\PL_55.JPG';'D:\arcgisserver\DATA\Cache imagen\1998\PL_56.JPG';'D:\arcgisserver\DATA\Cache imagen\1998\PL_57.JPG';'D:\arcgisserver\DATA\Cache imagen\1998\PL_58.JPG';'D:\arcgisserver\DATA\Cache imagen\1998\PL_59.JPG';'D:\arcgisserver\DATA\Cache imagen\1998\PL_60.JPG';'D:\arcgisserver\DATA\Cache imagen\1998\PL_61.jpg';'D:\arcgisserver\DATA\Cache imagen\1998\PL_68.JPG';'D:\arcgisserver\DATA\Cache imagen\1998\PL_69.JPG';'D:\arcgisserver\DATA\Cache imagen\1998\PL_70.JPG';'D:\arcgisserver\DATA\Cache imagen\1998\PL_71.JPG';'D:\arcgisserver\DATA\Cache imagen\1998\PL_72.JPG';'D:\arcgisserver\DATA\Cache imagen\1998\PL_77.JPG';'D:\arcgisserver\DATA\Cache imagen\1998\PL_78.JPG';'D:\arcgisserver\DATA\Cache imagen\1998\PL_79.JPG';'D:\arcgisserver\DATA\Cache imagen\1998\PL_80.JPG';'D:\arcgisserver\DATA\Cache imagen\1998\PL_87.JPG';'D:\arcgisserver\DATA\Cache imagen\1998\PL_88.JPG' "D:\arcgisserver\DATA\Cache imagen\1998\OrtoMosaico1998.gdb\FotoMosaico1998" LAST REJECT # # NONE 0 NONE</Process>
<Process Date="20120321" Time="142049" ToolSource="D:\PROGRAMAS\ArcGIS\Desktop10.0\ArcToolbox\Toolboxes\Data Management Tools.tbx\Clip">Clip "D:\arcgisserver\DATA\Cache imagen\1998\OrtoMosaico1998.gdb\FotoMosaico1998" "83298.4168999996 86000 106707.3124 127474.4421" "D:\arcgisserver\DATA\Cache imagen\1998\OrtoMosaico1998.gdb\FotoMosaico1998_Clip1" "D:\arcgisserver\DATA\Cache imagen\MASCARA_IMAGEN.gdb\MASCARA_1998_Project" # ClippingGeometry</Process>
</lineage>
<itemProps>
<itemName Sync="TRUE">FotoMosaico1998_Clip1</itemName>
<imsContentType Sync="TRUE">002</imsContentType>
<nativeExtBox>
<westBL Sync="TRUE">83298.218914</westBL>
<eastBL Sync="TRUE">106707.559288</eastBL>
<southBL Sync="TRUE">86000.167670</southBL>
<northBL Sync="TRUE">127474.571737</northBL>
<exTypeCode Sync="TRUE">1</exTypeCode>
</nativeExtBox>
<itemLocation>
<linkage Sync="TRUE">file://\\OCOPC\DATA\Cache imagen\1998\OrtoMosaico1998.gdb</linkage>
<protocol Sync="TRUE">Local Area Network</protocol>
</itemLocation>
</itemProps>
<coordRef>
<type Sync="TRUE">Projected</type>
<geogcsn Sync="TRUE">GCS_CarMAGBOG</geogcsn>
<csUnits Sync="TRUE">Linear Unit: Meter (1.000000)</csUnits>
<projcsn Sync="TRUE">PCS_CarMAGBOG</projcsn>
<peXml Sync="TRUE">&lt;ProjectedCoordinateSystem xsi:type='typens:ProjectedCoordinateSystem' xmlns:xsi='http://www.w3.org/2001/XMLSchema-instance' xmlns:xs='http://www.w3.org/2001/XMLSchema' xmlns:typens='http://www.esri.com/schemas/ArcGIS/10.0'&gt;&lt;WKT&gt;PROJCS[&amp;quot;PCS_CarMAGBOG&amp;quot;,GEOGCS[&amp;quot;GCS_CarMAGBOG&amp;quot;,DATUM[&amp;quot;D_CGS_CarMAGBOG&amp;quot;,SPHEROID[&amp;quot;GRS80_Mod&amp;quot;,6380687.0,298.257222101]],PRIMEM[&amp;quot;Greenwich&amp;quot;,0.0],UNIT[&amp;quot;Degree&amp;quot;,0.0174532925199433]],PROJECTION[&amp;quot;Transverse_Mercator&amp;quot;],PARAMETER[&amp;quot;False_Easting&amp;quot;,92334.879],PARAMETER[&amp;quot;False_Northing&amp;quot;,109320.965],PARAMETER[&amp;quot;Central_Meridian&amp;quot;,-74.14659167],PARAMETER[&amp;quot;Scale_Factor&amp;quot;,1.0],PARAMETER[&amp;quot;Latitude_Of_Origin&amp;quot;,4.680486111],UNIT[&amp;quot;Meter&amp;quot;,1.0]]&lt;/WKT&gt;&lt;XOrigin&gt;-5533100&lt;/XOrigin&gt;&lt;YOrigin&gt;-10414600&lt;/YOrigin&gt;&lt;XYScale&gt;450083161.59267002&lt;/XYScale&gt;&lt;ZOrigin&gt;-100000&lt;/ZOrigin&gt;&lt;ZScale&gt;10000&lt;/ZScale&gt;&lt;MOrigin&gt;-100000&lt;/MOrigin&gt;&lt;MScale&gt;10000&lt;/MScale&gt;&lt;XYTolerance&gt;0.001&lt;/XYTolerance&gt;&lt;ZTolerance&gt;0.001&lt;/ZTolerance&gt;&lt;MTolerance&gt;0.001&lt;/MTolerance&gt;&lt;HighPrecision&gt;true&lt;/HighPrecision&gt;&lt;/ProjectedCoordinateSystem&gt;</peXml>
</coordRef>
</DataProperties>
<SyncDate>20120321</SyncDate>
<SyncTime>14180000</SyncTime>
<ModDate>20120321</ModDate>
<ModTime>14180000</ModTime>
</Esri>
<dataIdInfo>
<envirDesc Sync="TRUE">Microsoft Windows 7 Version 6.1 (Build 7601) Service Pack 1; ESRI ArcGIS 10.0.3.3600</envirDesc>
<dataLang>
<languageCode Sync="TRUE" value="eng"/>
<countryCode Sync="TRUE" value="USA"/>
</dataLang>
<idCitation>
<resTitle Sync="TRUE">Bogota_1998</resTitle>
<presForm>
<PresFormCd Sync="TRUE" value="011"/>
</presForm>
</idCitation>
<spatRpType>
<SpatRepTypCd Sync="TRUE" value="002"/>
</spatRpType>
<dataExt>
<geoEle>
<GeoBndBox esriExtentType="search">
<exTypeCode Sync="TRUE">1</exTypeCode>
<westBL Sync="TRUE">-74.228026</westBL>
<eastBL Sync="TRUE">-74.017072</eastBL>
<northBL Sync="TRUE">4.844585</northBL>
<southBL Sync="TRUE">4.469666</southBL>
</GeoBndBox>
</geoEle>
</dataExt>
<idAbs/>
<searchKeys>
<keyword>Bogota_1998</keyword>
</searchKeys>
<idPurp>Bogota_1998</idPurp>
<idCredit/>
<resConst>
<Consts>
<useLimit/>
</Consts>
</resConst>
</dataIdInfo>
<mdLang>
<languageCode Sync="TRUE" value="eng"/>
<countryCode Sync="TRUE" value="USA"/>
</mdLang>
<distInfo>
<distFormat>
<formatName Sync="TRUE">File Geodatabase Raster Dataset</formatName>
</distFormat>
</distInfo>
<mdHrLv>
<ScopeCd Sync="TRUE" value="005"/>
</mdHrLv>
<mdHrLvName Sync="TRUE">dataset</mdHrLvName>
<refSysInfo>
<RefSystem>
<refSysID>
<identCode Sync="TRUE" code="0"/>
</refSysID>
</RefSystem>
</refSysInfo>
<spdoinfo>
<rastinfo>
<rasttype Sync="TRUE">Pixel</rasttype>
<rowcount Sync="TRUE">122464</rowcount>
<colcount Sync="TRUE">69122</colcount>
<rastxsz Sync="TRUE">0.338667</rastxsz>
<rastysz Sync="TRUE">0.338666</rastysz>
<rastbpp Sync="TRUE">8</rastbpp>
<vrtcount Sync="TRUE">1</vrtcount>
<rastorig Sync="TRUE">Upper Left</rastorig>
<rastcmap Sync="TRUE">FALSE</rastcmap>
<rastcomp Sync="TRUE">LZ77</rastcomp>
<rastband Sync="TRUE">1</rastband>
<rastdtyp Sync="TRUE">pixel codes</rastdtyp>
<rastifor Sync="TRUE">FGDBR</rastifor>
<rastplyr Sync="TRUE">TRUE</rastplyr>
</rastinfo>
</spdoinfo>
<spref>
<horizsys>
<planar>
<planci>
<plance Sync="TRUE">row and column</plance>
<coordrep>
<absres Sync="TRUE">0.338667</absres>
<ordres Sync="TRUE">0.338666</ordres>
</coordrep>
</planci>
</planar>
</horizsys>
</spref>
<mdDateSt Sync="TRUE">20120321</mdDateSt>
</metadata>
