{
 "currentVersion": 10.81,
 "serviceDescription": "Image/Bogota_1998",
 "name": "Image/Bogota_1998",
 "description": "",
 "extent": {
  "xmin": 83298.21891379434,
  "ymin": 86000.16766959129,
  "xmax": 106707.55928779415,
  "ymax": 127474.57173712699,
  "spatialReference": {
   "wkt": "PROJCS[\"PCS_CarMAGBOG\",GEOGCS[\"GCS_CarMAGBOG\",DATUM[\"D_CGS_CarMAGBOG\",SPHEROID[\"GRS80_Mod\",6380687.0,298.257222101]],PRIMEM[\"Greenwich\",0.0],UNIT[\"Degree\",0.0174532925199433]],PROJECTION[\"Transverse_Mercator\"],PARAMETER[\"False_Easting\",92334.879],PARAMETER[\"False_Northing\",109320.965],PARAMETER[\"Central_Meridian\",-74.14659167],PARAMETER[\"Scale_Factor\",1.0],PARAMETER[\"Latitude_Of_Origin\",4.680486111],UNIT[\"Meter\",1.0]]"
  }
 },
 "initialExtent": {
  "xmin": 83298.21891379434,
  "ymin": 86000.16766959129,
  "xmax": 106707.55928779415,
  "ymax": 127474.57173712699,
  "spatialReference": {
   "wkt": "PROJCS[\"PCS_CarMAGBOG\",GEOGCS[\"GCS_CarMAGBOG\",DATUM[\"D_CGS_CarMAGBOG\",SPHEROID[\"GRS80_Mod\",6380687.0,298.257222101]],PRIMEM[\"Greenwich\",0.0],UNIT[\"Degree\",0.0174532925199433]],PROJECTION[\"Transverse_Mercator\"],PARAMETER[\"False_Easting\",92334.879],PARAMETER[\"False_Northing\",109320.965],PARAMETER[\"Central_Meridian\",-74.14659167],PARAMETER[\"Scale_Factor\",1.0],PARAMETER[\"Latitude_Of_Origin\",4.680486111],UNIT[\"Meter\",1.0]]"
  }
 },
 "fullExtent": {
  "xmin": 83298.21891379434,
  "ymin": 86000.16766959129,
  "xmax": 106707.55928779415,
  "ymax": 127474.57173712699,
  "spatialReference": {
   "wkt": "PROJCS[\"PCS_CarMAGBOG\",GEOGCS[\"GCS_CarMAGBOG\",DATUM[\"D_CGS_CarMAGBOG\",SPHEROID[\"GRS80_Mod\",6380687.0,298.257222101]],PRIMEM[\"Greenwich\",0.0],UNIT[\"Degree\",0.0174532925199433]],PROJECTION[\"Transverse_Mercator\"],PARAMETER[\"False_Easting\",92334.879],PARAMETER[\"False_Northing\",109320.965],PARAMETER[\"Central_Meridian\",-74.14659167],PARAMETER[\"Scale_Factor\",1.0],PARAMETER[\"Latitude_Of_Origin\",4.680486111],UNIT[\"Meter\",1.0]]"
  }
 },
 "pixelSizeX": 0.3386669999999974,
 "pixelSizeY": 0.338666090177813,
 "datasetFormat": "FGDBR",
 "uncompressedSize": 8464956608,
 "blockWidth": 128,
 "blockHeight": 128,
 "compressionType": "LZ77",
 "bandNames": [
  "Band_1"
 ],
 "allowCopy": true,
 "allowAnalysis": true,
 "bandCount": 1,
 "pixelType": "U8",
 "minPixelSize": 0,
 "maxPixelSize": 0,
 "copyrightText": "",
 "serviceDataType": "esriImageServiceDataTypeGeneric",
 "serviceSourceType": "esriImageServiceSourceTypeDataset",
 "minValues": [
  0
 ],
 "maxValues": [
  255
 ],
 "meanValues": [
  139.58889293547273
 ],
 "stdvValues": [
  52.79521717814542
 ],
 "objectIdField": "",
 "fields": [],
 "capabilities": "Image,Metadata,Mensuration",
 "defaultMosaicMethod": "Center",
 "allowedMosaicMethods": "",
 "sortField": "",
 "sortValue": null,
 "sortAscending": true,
 "mosaicOperator": "First",
 "defaultCompressionQuality": 75,
 "defaultResamplingMethod": "Bilinear",
 "maxImageHeight": 4100,
 "maxImageWidth": 15000,
 "allowRasterFunction": true,
 "rasterFunctionInfos": [
  {
   "name": "None",
   "description": "",
   "help": ""
  }
 ],
 "rasterTypeInfos": [
  {
   "name": "Raster Dataset",
   "description": "Compatible con todos los datasets de rĂ¡steres de ArcGIS",
   "help": ""
  }
 ],
 "mensurationCapabilities": "Basic",
 "hasHistograms": true,
 "hasColormap": false,
 "hasRasterAttributeTable": false,
 "minScale": 0,
 "maxScale": 0,
 "exportTilesAllowed": false,
 "hasMultidimensions": false,
 "supportsStatistics": false,
 "supportsAdvancedQueries": false,
 "editFieldsInfo": null,
 "ownershipBasedAccessControlForRasters": null,
 "allowComputeTiePoints": false,
 "useStandardizedQueries": true,
 "advancedQueryCapabilities": {
  "useStandardizedQueries": true,
  "supportsStatistics": false,
  "supportsOrderBy": false,
  "supportsDistinct": false,
  "supportsPagination": false
 },
 "spatialReference": {
  "wkt": "PROJCS[\"PCS_CarMAGBOG\",GEOGCS[\"GCS_CarMAGBOG\",DATUM[\"D_CGS_CarMAGBOG\",SPHEROID[\"GRS80_Mod\",6380687.0,298.257222101]],PRIMEM[\"Greenwich\",0.0],UNIT[\"Degree\",0.0174532925199433]],PROJECTION[\"Transverse_Mercator\"],PARAMETER[\"False_Easting\",92334.879],PARAMETER[\"False_Northing\",109320.965],PARAMETER[\"Central_Meridian\",-74.14659167],PARAMETER[\"Scale_Factor\",1.0],PARAMETER[\"Latitude_Of_Origin\",4.680486111],UNIT[\"Meter\",1.0]]"
 }
}
