<?xml version="1.0" encoding="UTF-8" standalone="no"?>
<metadata xml:lang="es">
<Esri>
<MetaID>{1D9769CD-522A-4572-B917-E61CAE1E17AA}</MetaID>
<CreaDate>20110831</CreaDate>
<CreaTime>15164500</CreaTime>
<SyncOnce>FALSE</SyncOnce>
<DataProperties>
<lineage>
<Process Date="20110831" Time="151645" ToolSource="C:\Archivos de programa\ArcGIS\ArcToolbox\Toolboxes\Data Management Tools.tbx\Mosaic">Mosaic 'D:\ORTOFOTOMOSAICO DEFINITIVO (1_5000)\bog07_5k_14.ecw';'D:\ORTOFOTOMOSAICO DEFINITIVO (1_5000)\bog07_5k_15.ecw';'D:\ORTOFOTOMOSAICO DEFINITIVO (1_5000)\bog07_5k_16.ecw';'D:\ORTOFOTOMOSAICO DEFINITIVO (1_5000)\bog07_5k_17.ecw';'D:\ORTOFOTOMOSAICO DEFINITIVO (1_5000)\bog07_5k_21.ecw';'D:\ORTOFOTOMOSAICO DEFINITIVO (1_5000)\bog07_5k_22.ecw';'D:\ORTOFOTOMOSAICO DEFINITIVO (1_5000)\bog07_5k_23.ecw';'D:\ORTOFOTOMOSAICO DEFINITIVO (1_5000)\bog07_5k_24.ecw';'D:\ORTOFOTOMOSAICO DEFINITIVO (1_5000)\bog07_5k_27.ecw';'D:\ORTOFOTOMOSAICO DEFINITIVO (1_5000)\bog07_5k_28.ecw';'D:\ORTOFOTOMOSAICO DEFINITIVO (1_5000)\bog07_5k_29.ecw';'D:\ORTOFOTOMOSAICO DEFINITIVO (1_5000)\bog07_5k_30.ecw';'D:\ORTOFOTOMOSAICO DEFINITIVO (1_5000)\bog07_5k_31.ecw';'D:\ORTOFOTOMOSAICO DEFINITIVO (1_5000)\bog07_5k_35.ecw';'D:\ORTOFOTOMOSAICO DEFINITIVO (1_5000)\bog07_5k_36.ecw';'D:\ORTOFOTOMOSAICO DEFINITIVO (1_5000)\bog07_5k_37.ecw';'D:\ORTOFOTOMOSAICO DEFINITIVO (1_5000)\bog07_5k_38.ecw';'D:\ORTOFOTOMOSAICO DEFINITIVO (1_5000)\bog07_5k_39.ecw';'D:\ORTOFOTOMOSAICO DEFINITIVO (1_5000)\bog07_5k_40.ecw';'D:\ORTOFOTOMOSAICO DEFINITIVO (1_5000)\bog07_5k_46.ecw';'D:\ORTOFOTOMOSAICO DEFINITIVO (1_5000)\bog07_5k_47.ecw';'D:\ORTOFOTOMOSAICO DEFINITIVO (1_5000)\bog07_5k_48.ecw';'D:\ORTOFOTOMOSAICO DEFINITIVO (1_5000)\bog07_5k_49.ecw';'D:\ORTOFOTOMOSAICO DEFINITIVO (1_5000)\bog07_5k_50.ecw';'D:\ORTOFOTOMOSAICO DEFINITIVO (1_5000)\bog07_5k_51.ecw';'D:\ORTOFOTOMOSAICO DEFINITIVO (1_5000)\bog07_5k_57.ecw';'D:\ORTOFOTOMOSAICO DEFINITIVO (1_5000)\bog07_5k_58.ecw';'D:\ORTOFOTOMOSAICO DEFINITIVO (1_5000)\bog07_5k_59.ecw';'D:\ORTOFOTOMOSAICO DEFINITIVO (1_5000)\bog07_5k_60.ecw';'D:\ORTOFOTOMOSAICO DEFINITIVO (1_5000)\bog07_5k_61.ecw';'D:\ORTOFOTOMOSAICO DEFINITIVO (1_5000)\bog07_5k_68.ecw';'D:\ORTOFOTOMOSAICO DEFINITIVO (1_5000)\bog07_5k_69.ecw';'D:\ORTOFOTOMOSAICO DEFINITIVO (1_5000)\bog07_5k_70.ecw';'D:\ORTOFOTOMOSAICO DEFINITIVO (1_5000)\bog07_5k_71.ecw';'D:\ORTOFOTOMOSAICO DEFINITIVO (1_5000)\bog07_5k_72.ecw';'D:\ORTOFOTOMOSAICO DEFINITIVO (1_5000)\bog07_5k_77.ecw';'D:\ORTOFOTOMOSAICO DEFINITIVO (1_5000)\bog07_5k_78.ecw';'D:\ORTOFOTOMOSAICO DEFINITIVO (1_5000)\bog07_5k_79.ecw';'D:\ORTOFOTOMOSAICO DEFINITIVO (1_5000)\bog07_5k_80.ecw';'D:\ORTOFOTOMOSAICO DEFINITIVO (1_5000)\bog07_5k_81.ecw';'D:\ORTOFOTOMOSAICO DEFINITIVO (1_5000)\bog07_5k_87.ecw';'D:\ORTOFOTOMOSAICO DEFINITIVO (1_5000)\bog07_5k_88.ecw' "D:\1998\New File Geodatabase.gdb\jpg" LAST FIRST # # NONE 0 "D:\1998\New File Geodatabase.gdb\jpg" NONE</Process>
<Process Date="20110831" Time="152339" ToolSource="C:\Archivos de programa\ArcGIS\ArcToolbox\Toolboxes\Data Management Tools.tbx\BuildPyramids">BuildPyramids "D:\1998\New File Geodatabase.gdb\jpg" "D:\1998\New File Geodatabase.gdb\jpg"</Process>
<Process Date="20110901" Time="070325" ToolSource="C:\Archivos de programa\ArcGIS\ArcToolbox\Toolboxes\Data Management Tools.tbx\Clip">Clip "D:\1998\New File Geodatabase.gdb\jpg" "89887,3881670279 85985,3389999758 106460,884766951 121456,844599956" "D:\1998\New File Geodatabase.gdb\imagen2007" D:\1998\MASCARA_IMAGEN.gdb\MASCARA_2007_1 # ClippingGeometry</Process>
</lineage>
</DataProperties>
<SyncDate>20110831</SyncDate>
<SyncTime>20122000</SyncTime>
<ModDate>20110831</ModDate>
<ModTime>20122000</ModTime>
</Esri>
<idinfo>
<native Sync="TRUE">Microsoft Windows XP Version 5.1 (Build 2600) Service Pack 3; ESRI ArcCatalog 9.3.1.3000</native>
<descript>
<langdata Sync="TRUE">es</langdata>
<abstract>REQUIRED: A brief narrative summary of the data set.</abstract>
<purpose>REQUIRED: A summary of the intentions with which the data set was developed.</purpose>
</descript>
<citation>
<citeinfo>
<origin>REQUIRED: The name of an organization or individual that developed the data set.</origin>
<pubdate>REQUIRED: The date when the data set is published or otherwise made available for release.</pubdate>
<title Sync="TRUE">imagen2007</title>
<ftname Sync="TRUE">imagen2007</ftname>
<geoform Sync="TRUE">Fgdb raster digital data</geoform>
<onlink Sync="TRUE">\\SISTEMAE007\1998\New File Geodatabase.gdb</onlink>
</citeinfo>
</citation>
<timeperd>
<current>REQUIRED: The basis on which the time period of content information is determined.</current>
<timeinfo>
<sngdate>
<caldate>REQUIRED: The year (and optionally month, or month and day) for which the data set corresponds to the ground.</caldate>
</sngdate>
</timeinfo>
</timeperd>
<status>
<progress>REQUIRED: The state of the data set.</progress>
<update>REQUIRED: The frequency with which changes and additions are made to the data set after the initial data set is completed.</update>
</status>
<spdom>
<bounding>
<westbc Sync="TRUE">-74.168647</westbc>
<eastbc Sync="TRUE">-74.023456</eastbc>
<northbc Sync="TRUE">4.790189</northbc>
<southbc Sync="TRUE">4.469664</southbc>
</bounding>
<lboundng>
<leftbc Sync="TRUE">89887.196161</leftbc>
<rightbc Sync="TRUE">106000.196161</rightbc>
<bottombc Sync="TRUE">85999.803617</bottombc>
<topbc Sync="TRUE">121457.003617</topbc>
</lboundng>
</spdom>
<keywords>
<theme>
<themekt>REQUIRED: Reference to a formally registered thesaurus or a similar authoritative source of theme keywords.</themekt>
<themekey>REQUIRED: Common-use word or phrase used to describe the subject of the data set.</themekey>
</theme>
</keywords>
<accconst>REQUIRED: Restrictions and legal prerequisites for accessing the data set.</accconst>
<useconst>REQUIRED: Restrictions and legal prerequisites for using the data set after access is granted.</useconst>
<natvform Sync="TRUE">File Geodatabase Raster Dataset</natvform>
</idinfo>
<dataIdInfo>
<envirDesc Sync="TRUE">Microsoft Windows XP Version 5.1 (Build 2600) Service Pack 3; ESRI ArcCatalog 9.3.1.3000</envirDesc>
<dataLang>
<languageCode Sync="TRUE" value="es"/>
</dataLang>
<idCitation>
<resTitle Sync="TRUE">Bogota_2007</resTitle>
</idCitation>
<dataExt>
<geoEle>
<GeoBndBox esriExtentType="native">
<westBL Sync="TRUE">89887.196161</westBL>
<eastBL Sync="TRUE">106000.196161</eastBL>
<northBL Sync="TRUE">121457.003617</northBL>
<southBL Sync="TRUE">85999.803617</southBL>
<exTypeCode Sync="TRUE">1</exTypeCode>
</GeoBndBox>
</geoEle>
</dataExt>
<geoBox esriExtentType="decdegrees">
<westBL Sync="TRUE">-74.168647</westBL>
<eastBL Sync="TRUE">-74.023456</eastBL>
<northBL Sync="TRUE">4.790189</northBL>
<southBL Sync="TRUE">4.469664</southBL>
<exTypeCode Sync="TRUE">1</exTypeCode>
</geoBox>
<idAbs/>
<searchKeys>
<keyword>Bogota_2007</keyword>
</searchKeys>
<idPurp>Bogota_2007</idPurp>
<idCredit/>
<resConst>
<Consts>
<useLimit/>
</Consts>
</resConst>
</dataIdInfo>
<metainfo>
<langmeta Sync="TRUE">es</langmeta>
<metstdn Sync="TRUE">FGDC Content Standards for Digital Geospatial Metadata</metstdn>
<metstdv Sync="TRUE">FGDC-STD-001-1998</metstdv>
<mettc Sync="TRUE">local time</mettc>
<metextns>
<onlink Sync="TRUE">http://www.esri.com/metadata/esriprof80.html</onlink>
<metprof Sync="TRUE">ESRI Metadata Profile</metprof>
</metextns>
<metc>
<cntinfo>
<cntorgp>
<cntper>REQUIRED: The person responsible for the metadata information.</cntper>
<cntorg>REQUIRED: The organization responsible for the metadata information.</cntorg>
</cntorgp>
<cntaddr>
<addrtype>REQUIRED: The mailing and/or physical address for the organization or individual.</addrtype>
<city>REQUIRED: The city of the address.</city>
<state>REQUIRED: The state or province of the address.</state>
<postal>REQUIRED: The ZIP or other postal code of the address.</postal>
</cntaddr>
<cntvoice>REQUIRED: The telephone number by which individuals can speak to the organization or individual.</cntvoice>
</cntinfo>
</metc>
<metd Sync="TRUE">20110831</metd>
</metainfo>
<mdLang>
<languageCode Sync="TRUE" value="es"/>
</mdLang>
<mdStanName Sync="TRUE">ISO 19115 Geographic Information - Metadata</mdStanName>
<mdStanVer Sync="TRUE">DIS_ESRI1.0</mdStanVer>
<mdChar>
<CharSetCd Sync="TRUE" value="004"/>
</mdChar>
<mdHrLv>
<ScopeCd Sync="TRUE" value="005"/>
</mdHrLv>
<mdHrLvName Sync="TRUE">dataset</mdHrLvName>
<distinfo>
<resdesc Sync="TRUE">Downloadable Data</resdesc>
</distinfo>
<distInfo>
<distributor>
<distorTran>
<onLineSrc>
<orDesc Sync="TRUE">002</orDesc>
<linkage Sync="TRUE">file://\\SISTEMAE007\1998\New File Geodatabase.gdb</linkage>
<protocol Sync="TRUE">Local Area Network</protocol>
</onLineSrc>
</distorTran>
<distorFormat>
<formatName Sync="TRUE">File Geodatabase Raster Dataset</formatName>
</distorFormat>
</distributor>
</distInfo>
<spdoinfo>
<direct Sync="TRUE">Raster</direct>
<rastinfo>
<rasttype Sync="TRUE">Pixel</rasttype>
<rowcount Sync="TRUE">177286</rowcount>
<colcount Sync="TRUE">80565</colcount>
<rastxsz Sync="TRUE">0,200000</rastxsz>
<rastysz Sync="TRUE">0,200000</rastysz>
<rastbpp Sync="TRUE">8</rastbpp>
<vrtcount Sync="TRUE">1</vrtcount>
<rastorig Sync="TRUE">Upper Left</rastorig>
<rastcmap Sync="TRUE">FALSE</rastcmap>
<rastcomp Sync="TRUE">JPEG</rastcomp>
<rastband Sync="TRUE">3</rastband>
<rastdtyp Sync="TRUE">pixel codes</rastdtyp>
<rastifor Sync="TRUE">FGDBR</rastifor>
<rastplyr Sync="TRUE">TRUE</rastplyr>
</rastinfo>
</spdoinfo>
<spref>
<horizsys>
<cordsysn>
<geogcsn Sync="TRUE">GCS_CartMAGBOG</geogcsn>
<projcsn Sync="TRUE">PCS_CartMAGBOG</projcsn>
</cordsysn>
<planar>
<mapproj>
<mapprojn Sync="TRUE">Transverse Mercator</mapprojn>
<transmer>
<sfctrmer Sync="TRUE">1.000000</sfctrmer>
<longcm Sync="TRUE">-74.146592</longcm>
<latprjo Sync="TRUE">4.680486</latprjo>
<feast Sync="TRUE">92334.879000</feast>
<fnorth Sync="TRUE">109320.965000</fnorth>
</transmer>
</mapproj>
<planci>
<plance Sync="TRUE">row and column</plance>
<plandu Sync="TRUE">meters</plandu>
<coordrep>
<absres Sync="TRUE">0,200000</absres>
<ordres Sync="TRUE">0,200000</ordres>
</coordrep>
</planci>
</planar>
<geodetic>
<horizdn Sync="TRUE">&lt;custom&gt;</horizdn>
<ellips Sync="TRUE">GRS80 Mod.</ellips>
<semiaxis Sync="TRUE">6380687.000000</semiaxis>
<denflat Sync="TRUE">298.257222</denflat>
</geodetic>
</horizsys>
<vertdef>
<altsys>
<altenc Sync="TRUE">Explicit elevation coordinate included with horizontal coordinates</altenc>
<altres Sync="TRUE">0.000010</altres>
</altsys>
</vertdef>
</spref>
<refSysInfo>
<RefSystem>
<refSysID>
<identCode Sync="TRUE">PCS_CartMAGBOG</identCode>
</refSysID>
</RefSystem>
</refSysInfo>
<mdDateSt Sync="TRUE">20110831</mdDateSt>
</metadata>
