{
 "currentVersion": 10.81,
 "serviceDescription": "Image/Bogota_2007",
 "name": "Image/Bogota_2007",
 "description": "",
 "extent": {
  "xmin": 89887.1961605086,
  "ymin": 85999.8036165549,
  "xmax": 106000.1961605086,
  "ymax": 121457.0036165549,
  "spatialReference": {
   "wkt": "PROJCS[\"PCS_CartMAGBOG\",GEOGCS[\"GCS_CartMAGBOG\",DATUM[\"\",SPHEROID[\"GRS80 Mod.\",6380687.0,298.257222101]],PRIMEM[\"Greenwich\",0.0],UNIT[\"Degree\",0.0174532925199433]],PROJECTION[\"Transverse_Mercator\"],PARAMETER[\"False_Easting\",92334.879],PARAMETER[\"False_Northing\",109320.965],PARAMETER[\"Central_Meridian\",-74.146591667],PARAMETER[\"Scale_Factor\",1.0],PARAMETER[\"Latitude_Of_Origin\",4.680486111],UNIT[\"Meter\",1.0]]"
  }
 },
 "initialExtent": {
  "xmin": 89887.1961605086,
  "ymin": 85999.8036165549,
  "xmax": 106000.1961605086,
  "ymax": 121457.0036165549,
  "spatialReference": {
   "wkt": "PROJCS[\"PCS_CartMAGBOG\",GEOGCS[\"GCS_CartMAGBOG\",DATUM[\"\",SPHEROID[\"GRS80 Mod.\",6380687.0,298.257222101]],PRIMEM[\"Greenwich\",0.0],UNIT[\"Degree\",0.0174532925199433]],PROJECTION[\"Transverse_Mercator\"],PARAMETER[\"False_Easting\",92334.879],PARAMETER[\"False_Northing\",109320.965],PARAMETER[\"Central_Meridian\",-74.146591667],PARAMETER[\"Scale_Factor\",1.0],PARAMETER[\"Latitude_Of_Origin\",4.680486111],UNIT[\"Meter\",1.0]]"
  }
 },
 "fullExtent": {
  "xmin": 89887.1961605086,
  "ymin": 85999.8036165549,
  "xmax": 106000.1961605086,
  "ymax": 121457.0036165549,
  "spatialReference": {
   "wkt": "PROJCS[\"PCS_CartMAGBOG\",GEOGCS[\"GCS_CartMAGBOG\",DATUM[\"\",SPHEROID[\"GRS80 Mod.\",6380687.0,298.257222101]],PRIMEM[\"Greenwich\",0.0],UNIT[\"Degree\",0.0174532925199433]],PROJECTION[\"Transverse_Mercator\"],PARAMETER[\"False_Easting\",92334.879],PARAMETER[\"False_Northing\",109320.965],PARAMETER[\"Central_Meridian\",-74.146591667],PARAMETER[\"Scale_Factor\",1.0],PARAMETER[\"Latitude_Of_Origin\",4.680486111],UNIT[\"Meter\",1.0]]"
  }
 },
 "pixelSizeX": 0.2,
 "pixelSizeY": 0.19999999999999998,
 "datasetFormat": "FGDBR",
 "uncompressedSize": 42849139770,
 "blockWidth": 128,
 "blockHeight": 128,
 "compressionType": "JPEG",
 "bandNames": [
  "Band_1",
  "Band_2",
  "Band_3"
 ],
 "allowCopy": true,
 "allowAnalysis": true,
 "bandCount": 3,
 "pixelType": "U8",
 "minPixelSize": 0,
 "maxPixelSize": 0,
 "copyrightText": "",
 "serviceDataType": "esriImageServiceDataTypeRGB",
 "serviceSourceType": "esriImageServiceSourceTypeDataset",
 "minValues": [
  0,
  0,
  0
 ],
 "maxValues": [
  255,
  255,
  255
 ],
 "meanValues": [
  67.47077520346292,
  62.120045515091554,
  57.46373509763183
 ],
 "stdvValues": [
  46.39326070866114,
  42.55516089779448,
  42.826728166749085
 ],
 "objectIdField": "",
 "fields": [],
 "capabilities": "Image,Metadata,Mensuration",
 "defaultMosaicMethod": "Center",
 "allowedMosaicMethods": "",
 "sortField": "",
 "sortValue": null,
 "sortAscending": true,
 "mosaicOperator": "First",
 "defaultCompressionQuality": 75,
 "defaultResamplingMethod": "Bilinear",
 "maxImageHeight": 4100,
 "maxImageWidth": 15000,
 "allowRasterFunction": true,
 "rasterFunctionInfos": [
  {
   "name": "None",
   "description": "",
   "help": ""
  }
 ],
 "rasterTypeInfos": [
  {
   "name": "Raster Dataset",
   "description": "Compatible con todos los datasets de rĂ¡steres de ArcGIS",
   "help": ""
  }
 ],
 "mensurationCapabilities": "Basic",
 "hasHistograms": true,
 "hasColormap": false,
 "hasRasterAttributeTable": false,
 "minScale": 0,
 "maxScale": 0,
 "exportTilesAllowed": false,
 "hasMultidimensions": false,
 "supportsStatistics": false,
 "supportsAdvancedQueries": false,
 "editFieldsInfo": null,
 "ownershipBasedAccessControlForRasters": null,
 "allowComputeTiePoints": false,
 "useStandardizedQueries": true,
 "advancedQueryCapabilities": {
  "useStandardizedQueries": true,
  "supportsStatistics": false,
  "supportsOrderBy": false,
  "supportsDistinct": false,
  "supportsPagination": false
 },
 "spatialReference": {
  "wkt": "PROJCS[\"PCS_CartMAGBOG\",GEOGCS[\"GCS_CartMAGBOG\",DATUM[\"\",SPHEROID[\"GRS80 Mod.\",6380687.0,298.257222101]],PRIMEM[\"Greenwich\",0.0],UNIT[\"Degree\",0.0174532925199433]],PROJECTION[\"Transverse_Mercator\"],PARAMETER[\"False_Easting\",92334.879],PARAMETER[\"False_Northing\",109320.965],PARAMETER[\"Central_Meridian\",-74.146591667],PARAMETER[\"Scale_Factor\",1.0],PARAMETER[\"Latitude_Of_Origin\",4.680486111],UNIT[\"Meter\",1.0]]"
 }
}
