{
 "currentVersion": 10.81,
 "serviceDescription": "Image/Bogota_2009",
 "name": "Image/Bogota_2009",
 "description": "",
 "extent": {
  "xmin": 83597.61255877092,
  "ymin": 81729.2729288405,
  "xmax": 107384.61255877092,
  "ymax": 127099.0229288405,
  "spatialReference": {
   "wkt": "PROJCS[\"User_Defined_Transverse_Mercator\",GEOGCS[\"GCS_User_Defined\",DATUM[\"D_User_Defined\",SPHEROID[\"User_Defined_Spheroid\",6380687.0,298.257222101]],PRIMEM[\"Greenwich\",0.0],UNIT[\"Degree\",0.0174532925199433]],PROJECTION[\"Transverse_Mercator\"],PARAMETER[\"False_Easting\",92334.879],PARAMETER[\"False_Northing\",109320.965],PARAMETER[\"Central_Meridian\",-74.14659166666668],PARAMETER[\"Scale_Factor\",1.0],PARAMETER[\"Latitude_Of_Origin\",4.680486111111112],UNIT[\"Meter\",1.0]]"
  }
 },
 "initialExtent": {
  "xmin": 83597.61255877092,
  "ymin": 81729.2729288405,
  "xmax": 107384.61255877092,
  "ymax": 127099.0229288405,
  "spatialReference": {
   "wkt": "PROJCS[\"User_Defined_Transverse_Mercator\",GEOGCS[\"GCS_User_Defined\",DATUM[\"D_User_Defined\",SPHEROID[\"User_Defined_Spheroid\",6380687.0,298.257222101]],PRIMEM[\"Greenwich\",0.0],UNIT[\"Degree\",0.0174532925199433]],PROJECTION[\"Transverse_Mercator\"],PARAMETER[\"False_Easting\",92334.879],PARAMETER[\"False_Northing\",109320.965],PARAMETER[\"Central_Meridian\",-74.14659166666668],PARAMETER[\"Scale_Factor\",1.0],PARAMETER[\"Latitude_Of_Origin\",4.680486111111112],UNIT[\"Meter\",1.0]]"
  }
 },
 "fullExtent": {
  "xmin": 83597.61255877092,
  "ymin": 81729.2729288405,
  "xmax": 107384.61255877092,
  "ymax": 127099.0229288405,
  "spatialReference": {
   "wkt": "PROJCS[\"User_Defined_Transverse_Mercator\",GEOGCS[\"GCS_User_Defined\",DATUM[\"D_User_Defined\",SPHEROID[\"User_Defined_Spheroid\",6380687.0,298.257222101]],PRIMEM[\"Greenwich\",0.0],UNIT[\"Degree\",0.0174532925199433]],PROJECTION[\"Transverse_Mercator\"],PARAMETER[\"False_Easting\",92334.879],PARAMETER[\"False_Northing\",109320.965],PARAMETER[\"Central_Meridian\",-74.14659166666668],PARAMETER[\"Scale_Factor\",1.0],PARAMETER[\"Latitude_Of_Origin\",4.680486111111112],UNIT[\"Meter\",1.0]]"
  }
 },
 "pixelSizeX": 0.25,
 "pixelSizeY": 0.25,
 "datasetFormat": "GRID Stack 7.x",
 "uncompressedSize": 103604183352,
 "blockWidth": 256,
 "blockHeight": 4,
 "compressionType": "None",
 "bandNames": [
  "Band_1",
  "Band_2",
  "Band_3"
 ],
 "allowCopy": true,
 "allowAnalysis": true,
 "bandCount": 3,
 "noDataValue": 256,
 "noDataValues": [
  256,
  256,
  256
 ],
 "pixelType": "S16",
 "minPixelSize": 0,
 "maxPixelSize": 0,
 "copyrightText": "",
 "serviceDataType": "esriImageServiceDataTypeGeneric",
 "serviceSourceType": "esriImageServiceSourceTypeDataset",
 "minValues": [
  0,
  0,
  0
 ],
 "maxValues": [
  255,
  255,
  255
 ],
 "meanValues": [
  78.46509611280136,
  76.00567227983512,
  67.3624427262989
 ],
 "stdvValues": [
  45.094510234315585,
  41.418203369235755,
  41.32016912183934
 ],
 "objectIdField": "",
 "fields": [],
 "capabilities": "Image,Metadata,Mensuration",
 "defaultMosaicMethod": "Center",
 "allowedMosaicMethods": "",
 "sortField": "",
 "sortValue": null,
 "sortAscending": true,
 "mosaicOperator": "First",
 "defaultCompressionQuality": 75,
 "defaultResamplingMethod": "Bilinear",
 "maxImageHeight": 4100,
 "maxImageWidth": 15000,
 "allowRasterFunction": true,
 "rasterFunctionInfos": [
  {
   "name": "None",
   "description": "",
   "help": ""
  }
 ],
 "rasterTypeInfos": [
  {
   "name": "Raster Dataset",
   "description": "Compatible con todos los datasets de rĂ¡steres de ArcGIS",
   "help": ""
  }
 ],
 "mensurationCapabilities": "Basic",
 "hasHistograms": true,
 "hasColormap": false,
 "hasRasterAttributeTable": false,
 "minScale": 0,
 "maxScale": 0,
 "exportTilesAllowed": false,
 "hasMultidimensions": false,
 "supportsStatistics": false,
 "supportsAdvancedQueries": false,
 "editFieldsInfo": null,
 "ownershipBasedAccessControlForRasters": null,
 "allowComputeTiePoints": false,
 "useStandardizedQueries": true,
 "advancedQueryCapabilities": {
  "useStandardizedQueries": true,
  "supportsStatistics": false,
  "supportsOrderBy": false,
  "supportsDistinct": false,
  "supportsPagination": false
 },
 "spatialReference": {
  "wkt": "PROJCS[\"User_Defined_Transverse_Mercator\",GEOGCS[\"GCS_User_Defined\",DATUM[\"D_User_Defined\",SPHEROID[\"User_Defined_Spheroid\",6380687.0,298.257222101]],PRIMEM[\"Greenwich\",0.0],UNIT[\"Degree\",0.0174532925199433]],PROJECTION[\"Transverse_Mercator\"],PARAMETER[\"False_Easting\",92334.879],PARAMETER[\"False_Northing\",109320.965],PARAMETER[\"Central_Meridian\",-74.14659166666668],PARAMETER[\"Scale_Factor\",1.0],PARAMETER[\"Latitude_Of_Origin\",4.680486111111112],UNIT[\"Meter\",1.0]]"
 }
}
