{
 "currentVersion": 10.81,
 "serviceDescription": "Image/Bogota_2014",
 "name": "Image/Bogota_2014",
 "description": "",
 "extent": {
  "xmin": -74.22527067564351,
  "ymin": 4.4562096065014165,
  "xmax": -74.00805117490812,
  "ymax": 4.838474175252636,
  "spatialReference": {
   "wkid": 4686,
   "latestWkid": 4686
  }
 },
 "initialExtent": {
  "xmin": -74.22527067564351,
  "ymin": 4.4562096065014165,
  "xmax": -74.00805117490812,
  "ymax": 4.838474175252636,
  "spatialReference": {
   "wkid": 4686,
   "latestWkid": 4686
  }
 },
 "fullExtent": {
  "xmin": -74.22527067564351,
  "ymin": 4.4562096065014165,
  "xmax": -74.00805117490812,
  "ymax": 4.838474175252636,
  "spatialReference": {
   "wkid": 4686,
   "latestWkid": 4686
  }
 },
 "pixelSizeX": 6.769219046080666E-7,
 "pixelSizeY": 6.769219046080636E-7,
 "datasetFormat": "FGDBR",
 "uncompressedSize": 543634458090,
 "blockWidth": 128,
 "blockHeight": 128,
 "compressionType": "LZ77",
 "bandNames": [
  "Band_1",
  "Band_2",
  "Band_3"
 ],
 "allowCopy": true,
 "allowAnalysis": true,
 "bandCount": 3,
 "pixelType": "U8",
 "minPixelSize": 0,
 "maxPixelSize": 0,
 "copyrightText": "",
 "serviceDataType": "esriImageServiceDataTypeRGB",
 "serviceSourceType": "esriImageServiceSourceTypeDataset",
 "minValues": [
  0,
  0,
  0
 ],
 "maxValues": [
  255,
  255,
  255
 ],
 "meanValues": [
  93.89539478241224,
  91.09141007381541,
  74.60198021460555
 ],
 "stdvValues": [
  47.954213521223146,
  42.41814274307899,
  44.107764652974794
 ],
 "objectIdField": "",
 "fields": [],
 "capabilities": "Image,Metadata,Mensuration",
 "defaultMosaicMethod": "Center",
 "allowedMosaicMethods": "",
 "sortField": "",
 "sortValue": null,
 "sortAscending": true,
 "mosaicOperator": "First",
 "defaultCompressionQuality": 75,
 "defaultResamplingMethod": "Bilinear",
 "maxImageHeight": 4100,
 "maxImageWidth": 15000,
 "allowRasterFunction": true,
 "rasterFunctionInfos": [
  {
   "name": "None",
   "description": "",
   "help": ""
  }
 ],
 "rasterTypeInfos": [
  {
   "name": "Raster Dataset",
   "description": "Compatible con todos los datasets de rĂ¡steres de ArcGIS",
   "help": ""
  }
 ],
 "mensurationCapabilities": "Basic",
 "hasHistograms": true,
 "hasColormap": false,
 "hasRasterAttributeTable": false,
 "minScale": 0,
 "maxScale": 0,
 "exportTilesAllowed": false,
 "hasMultidimensions": false,
 "supportsStatistics": false,
 "supportsAdvancedQueries": false,
 "editFieldsInfo": null,
 "ownershipBasedAccessControlForRasters": null,
 "allowComputeTiePoints": false,
 "useStandardizedQueries": true,
 "advancedQueryCapabilities": {
  "useStandardizedQueries": true,
  "supportsStatistics": false,
  "supportsOrderBy": false,
  "supportsDistinct": false,
  "supportsPagination": false
 },
 "spatialReference": {
  "wkid": 4686,
  "latestWkid": 4686
 }
}
