View In:
ArcGIS JavaScript
ArcGIS Online Map Viewer
ArcGIS Earth
ArcMap
View Footprint In:
ArcGIS Online Map Viewer
Service Description: Image/Bogota_1998
Name: Image/Bogota_1998
Description:
Single Fused Map Cache: false
Extent:
XMin: 83298.21891379434
YMin: 86000.16766959129
XMax: 106707.55928779415
YMax: 127474.57173712699
Spatial Reference: PROJCS["PCS_CarMAGBOG",GEOGCS["GCS_CarMAGBOG",DATUM["D_CGS_CarMAGBOG",SPHEROID["GRS80_Mod",6380687.0,298.257222101]],PRIMEM["Greenwich",0.0],UNIT["Degree",0.0174532925199433]],PROJECTION["Transverse_Mercator"],PARAMETER["False_Easting",92334.879],PARAMETER["False_Northing",109320.965],PARAMETER["Central_Meridian",-74.14659167],PARAMETER["Scale_Factor",1.0],PARAMETER["Latitude_Of_Origin",4.680486111],UNIT["Meter",1.0]]
Initial Extent:
XMin: 83298.21891379434
YMin: 86000.16766959129
XMax: 106707.55928779415
YMax: 127474.57173712699
Spatial Reference: PROJCS["PCS_CarMAGBOG",GEOGCS["GCS_CarMAGBOG",DATUM["D_CGS_CarMAGBOG",SPHEROID["GRS80_Mod",6380687.0,298.257222101]],PRIMEM["Greenwich",0.0],UNIT["Degree",0.0174532925199433]],PROJECTION["Transverse_Mercator"],PARAMETER["False_Easting",92334.879],PARAMETER["False_Northing",109320.965],PARAMETER["Central_Meridian",-74.14659167],PARAMETER["Scale_Factor",1.0],PARAMETER["Latitude_Of_Origin",4.680486111],UNIT["Meter",1.0]]
Full Extent:
XMin: 83298.21891379434
YMin: 86000.16766959129
XMax: 106707.55928779415
YMax: 127474.57173712699
Spatial Reference: PROJCS["PCS_CarMAGBOG",GEOGCS["GCS_CarMAGBOG",DATUM["D_CGS_CarMAGBOG",SPHEROID["GRS80_Mod",6380687.0,298.257222101]],PRIMEM["Greenwich",0.0],UNIT["Degree",0.0174532925199433]],PROJECTION["Transverse_Mercator"],PARAMETER["False_Easting",92334.879],PARAMETER["False_Northing",109320.965],PARAMETER["Central_Meridian",-74.14659167],PARAMETER["Scale_Factor",1.0],PARAMETER["Latitude_Of_Origin",4.680486111],UNIT["Meter",1.0]]
Pixel Size X: 0.3386669999999974
Pixel Size Y: 0.338666090177813
Band Count: 1
Pixel Type: U8
RasterFunction Infos: {"rasterFunctionInfos": [{
"name": "None",
"description": "",
"help": ""
}]}
Mensuration Capabilities: Basic
Has Histograms: true
Has Colormap: false
Has Multi Dimensions : false
Rendering Rule:
Min Scale: 0
Max Scale: 0
Copyright Text:
Service Data Type: esriImageServiceDataTypeGeneric
Min Values: 0
Max Values: 255
Mean Values: 139.58889293547273
Standard Deviation Values: 52.79521717814542
Object ID Field:
Fields:
None
Default Mosaic Method: Center
Allowed Mosaic Methods:
SortField:
SortValue: null
Mosaic Operator: First
Default Compression Quality: 75
Default Resampling Method: Bilinear
Max Record Count: null
Max Image Height: 4100
Max Image Width: 15000
Max Download Image Count: null
Max Mosaic Image Count: null
Allow Raster Function: true
Allow Copy: true
Allow Analysis: true
Allow Compute TiePoints: false
Supports Statistics: false
Supports Advanced Queries: false
Use StandardizedQueries: true
Raster Type Infos:
Name: Raster Dataset
Description: Compatible con todos los datasets de rĂ¡steres de ArcGIS
Help:
Has Raster Attribute Table: false
Edit Fields Info: null
Ownership Based AccessControl For Rasters: null
Child Resources:
Info
Histograms
Statistics
Key Properties
Legend
Raster Function Infos
Supported Operations:
Export Image
Identify
Measure
Compute Histograms
Compute Statistics Histograms
Get Samples
Compute Class Statistics
Query Boundary
Compute Pixel Location
Validate
Project