View In:
ArcGIS JavaScript
ArcGIS Online Map Viewer
ArcGIS Earth
ArcMap
View Footprint In:
ArcGIS Online Map Viewer
Service Description: Image/Bogota_2007
Name: Image/Bogota_2007
Description:
Single Fused Map Cache: false
Extent:
XMin: 89887.1961605086
YMin: 85999.8036165549
XMax: 106000.1961605086
YMax: 121457.0036165549
Spatial Reference: PROJCS["PCS_CartMAGBOG",GEOGCS["GCS_CartMAGBOG",DATUM["",SPHEROID["GRS80 Mod.",6380687.0,298.257222101]],PRIMEM["Greenwich",0.0],UNIT["Degree",0.0174532925199433]],PROJECTION["Transverse_Mercator"],PARAMETER["False_Easting",92334.879],PARAMETER["False_Northing",109320.965],PARAMETER["Central_Meridian",-74.146591667],PARAMETER["Scale_Factor",1.0],PARAMETER["Latitude_Of_Origin",4.680486111],UNIT["Meter",1.0]]
Initial Extent:
XMin: 89887.1961605086
YMin: 85999.8036165549
XMax: 106000.1961605086
YMax: 121457.0036165549
Spatial Reference: PROJCS["PCS_CartMAGBOG",GEOGCS["GCS_CartMAGBOG",DATUM["",SPHEROID["GRS80 Mod.",6380687.0,298.257222101]],PRIMEM["Greenwich",0.0],UNIT["Degree",0.0174532925199433]],PROJECTION["Transverse_Mercator"],PARAMETER["False_Easting",92334.879],PARAMETER["False_Northing",109320.965],PARAMETER["Central_Meridian",-74.146591667],PARAMETER["Scale_Factor",1.0],PARAMETER["Latitude_Of_Origin",4.680486111],UNIT["Meter",1.0]]
Full Extent:
XMin: 89887.1961605086
YMin: 85999.8036165549
XMax: 106000.1961605086
YMax: 121457.0036165549
Spatial Reference: PROJCS["PCS_CartMAGBOG",GEOGCS["GCS_CartMAGBOG",DATUM["",SPHEROID["GRS80 Mod.",6380687.0,298.257222101]],PRIMEM["Greenwich",0.0],UNIT["Degree",0.0174532925199433]],PROJECTION["Transverse_Mercator"],PARAMETER["False_Easting",92334.879],PARAMETER["False_Northing",109320.965],PARAMETER["Central_Meridian",-74.146591667],PARAMETER["Scale_Factor",1.0],PARAMETER["Latitude_Of_Origin",4.680486111],UNIT["Meter",1.0]]
Pixel Size X: 0.2
Pixel Size Y: 0.19999999999999998
Band Count: 3
Pixel Type: U8
RasterFunction Infos: {"rasterFunctionInfos": [{
"name": "None",
"description": "",
"help": ""
}]}
Mensuration Capabilities: Basic
Has Histograms: true
Has Colormap: false
Has Multi Dimensions : false
Rendering Rule:
Min Scale: 0
Max Scale: 0
Copyright Text:
Service Data Type: esriImageServiceDataTypeRGB
Min Values: 0, 0, 0
Max Values: 255, 255, 255
Mean Values: 67.47077520346292, 62.120045515091554, 57.46373509763183
Standard Deviation Values: 46.39326070866114, 42.55516089779448, 42.826728166749085
Object ID Field:
Fields:
None
Default Mosaic Method: Center
Allowed Mosaic Methods:
SortField:
SortValue: null
Mosaic Operator: First
Default Compression Quality: 75
Default Resampling Method: Bilinear
Max Record Count: null
Max Image Height: 4100
Max Image Width: 15000
Max Download Image Count: null
Max Mosaic Image Count: null
Allow Raster Function: true
Allow Copy: true
Allow Analysis: true
Allow Compute TiePoints: false
Supports Statistics: false
Supports Advanced Queries: false
Use StandardizedQueries: true
Raster Type Infos:
Name: Raster Dataset
Description: Compatible con todos los datasets de rĂ¡steres de ArcGIS
Help:
Has Raster Attribute Table: false
Edit Fields Info: null
Ownership Based AccessControl For Rasters: null
Child Resources:
Info
Histograms
Statistics
Key Properties
Legend
Raster Function Infos
Supported Operations:
Export Image
Identify
Measure
Compute Histograms
Compute Statistics Histograms
Get Samples
Compute Class Statistics
Query Boundary
Compute Pixel Location
Validate
Project