View In:
ArcGIS JavaScript
ArcGIS Online Map Viewer
ArcGIS Earth
ArcMap
View Footprint In:
ArcGIS Online Map Viewer
Service Description: Image/Bogota_2014
Name: Image/Bogota_2014
Description:
Single Fused Map Cache: false
Extent:
XMin: -74.22527067564351
YMin: 4.4562096065014165
XMax: -74.00805117490812
YMax: 4.838474175252636
Spatial Reference: 4686
(4686)
Initial Extent:
XMin: -74.22527067564351
YMin: 4.4562096065014165
XMax: -74.00805117490812
YMax: 4.838474175252636
Spatial Reference: 4686
(4686)
Full Extent:
XMin: -74.22527067564351
YMin: 4.4562096065014165
XMax: -74.00805117490812
YMax: 4.838474175252636
Spatial Reference: 4686
(4686)
Pixel Size X: 6.769219046080666E-7
Pixel Size Y: 6.769219046080636E-7
Band Count: 3
Pixel Type: U8
RasterFunction Infos: {"rasterFunctionInfos": [{
"name": "None",
"description": "",
"help": ""
}]}
Mensuration Capabilities: Basic
Has Histograms: true
Has Colormap: false
Has Multi Dimensions : false
Rendering Rule:
Min Scale: 0
Max Scale: 0
Copyright Text:
Service Data Type: esriImageServiceDataTypeRGB
Min Values: 0, 0, 0
Max Values: 255, 255, 255
Mean Values: 93.89539478241224, 91.09141007381541, 74.60198021460555
Standard Deviation Values: 47.954213521223146, 42.41814274307899, 44.107764652974794
Object ID Field:
Fields:
None
Default Mosaic Method: Center
Allowed Mosaic Methods:
SortField:
SortValue: null
Mosaic Operator: First
Default Compression Quality: 75
Default Resampling Method: Bilinear
Max Record Count: null
Max Image Height: 4100
Max Image Width: 15000
Max Download Image Count: null
Max Mosaic Image Count: null
Allow Raster Function: true
Allow Copy: true
Allow Analysis: true
Allow Compute TiePoints: false
Supports Statistics: false
Supports Advanced Queries: false
Use StandardizedQueries: true
Raster Type Infos:
Name: Raster Dataset
Description: Compatible con todos los datasets de rĂ¡steres de ArcGIS
Help:
Has Raster Attribute Table: false
Edit Fields Info: null
Ownership Based AccessControl For Rasters: null
Child Resources:
Info
Histograms
Statistics
Key Properties
Legend
Raster Function Infos
Supported Operations:
Export Image
Identify
Measure
Compute Histograms
Compute Statistics Histograms
Get Samples
Compute Class Statistics
Query Boundary
Compute Pixel Location
Validate
Project